Package: SeqGSEA Version: 1.51.0 Command: /home/biocbuild/bbs-3.23-bioc/R/bin/R CMD build --keep-empty-dirs --no-resave-data SeqGSEA StartedAt: 2025-11-11 20:06:58 -0500 (Tue, 11 Nov 2025) EndedAt: 2025-11-11 20:09:24 -0500 (Tue, 11 Nov 2025) EllapsedTime: 145.2 seconds RetCode: 0 Status: OK PackageFile: SeqGSEA_1.51.0.tar.gz PackageFileSize: 1.707 MiB