Package: SeqGSEA Version: 1.49.0 Command: /Library/Frameworks/R.framework/Resources/bin/R CMD INSTALL SeqGSEA StartedAt: 2025-10-14 15:26:44 -0400 (Tue, 14 Oct 2025) EndedAt: 2025-10-14 15:27:31 -0400 (Tue, 14 Oct 2025) EllapsedTime: 46.5 seconds RetCode: 0 Status: OK