Package: SeqGSEA Version: 1.49.0 Command: rm -rf SeqGSEA.buildbin-libdir && mkdir SeqGSEA.buildbin-libdir && /Users/biocbuild/BBS/utils/build-universal.sh SeqGSEA_1.49.0.tar.gz /Library/Frameworks/R.framework/Resources/bin/R SeqGSEA.buildbin-libdir StartedAt: 2025-10-15 03:08:33 -0400 (Wed, 15 Oct 2025) EndedAt: 2025-10-15 03:09:24 -0400 (Wed, 15 Oct 2025) EllapsedTime: 50.7 seconds RetCode: 0 Status: OK PackageFile: SeqGSEA_1.49.0.tgz PackageFileSize: 2.087 MiB