Package: SeqArray Version: 1.49.8 Command: /Library/Frameworks/R.framework/Resources/bin/R CMD check --install=check:SeqArray.install-out.txt --library=/Library/Frameworks/R.framework/Resources/library --no-vignettes --timings SeqArray_1.49.8.tar.gz StartedAt: 2025-10-23 00:06:31 -0400 (Thu, 23 Oct 2025) EndedAt: 2025-10-23 00:10:12 -0400 (Thu, 23 Oct 2025) EllapsedTime: 220.1 seconds RetCode: 0 Status: OK CheckDir: SeqArray.Rcheck Warnings: 0