Package: SeqArray Version: 1.49.8 Command: /Library/Frameworks/R.framework/Resources/bin/R CMD check --install=check:SeqArray.install-out.txt --library=/Library/Frameworks/R.framework/Resources/library --no-vignettes --timings SeqArray_1.49.8.tar.gz StartedAt: 2025-10-05 21:44:56 -0400 (Sun, 05 Oct 2025) EndedAt: 2025-10-05 21:46:17 -0400 (Sun, 05 Oct 2025) EllapsedTime: 80.1 seconds RetCode: 0 Status: OK CheckDir: SeqArray.Rcheck Warnings: 0