Package: SemDist Version: 1.43.0 Command: /home/biocbuild/R/R/bin/R CMD INSTALL SemDist StartedAt: 2025-10-06 21:03:24 -0000 (Mon, 06 Oct 2025) EndedAt: 2025-10-06 21:03:42 -0000 (Mon, 06 Oct 2025) EllapsedTime: 17.9 seconds RetCode: 0 Status: OK