Package: SemDist Version: 1.43.0 Command: /home/biocbuild/R/R/bin/R CMD build --keep-empty-dirs --no-resave-data SemDist StartedAt: 2025-10-07 02:52:59 -0000 (Tue, 07 Oct 2025) EndedAt: 2025-10-07 02:53:44 -0000 (Tue, 07 Oct 2025) EllapsedTime: 45.0 seconds RetCode: 0 Status: OK PackageFile: SemDist_1.43.0.tar.gz PackageFileSize: 1.943 MiB