Package: SemDist Version: 1.43.0 Command: chmod a+r SemDist -R && F:\biocbuild\bbs-3.22-bioc\R\bin\R.exe CMD build --keep-empty-dirs --no-resave-data SemDist StartedAt: 2025-08-14 23:12:52 -0400 (Thu, 14 Aug 2025) EndedAt: 2025-08-14 23:13:55 -0400 (Thu, 14 Aug 2025) EllapsedTime: 63.2 seconds RetCode: 0 Status: OK PackageFile: SemDist_1.43.0.tar.gz PackageFileSize: 1.859 MiB