Package: SemDist Version: 1.45.0 Command: /home/biocbuild/bbs-3.23-bioc/R/bin/R CMD build --keep-empty-dirs --no-resave-data SemDist StartedAt: 2025-11-05 20:01:21 -0500 (Wed, 05 Nov 2025) EndedAt: 2025-11-05 20:01:55 -0500 (Wed, 05 Nov 2025) EllapsedTime: 34.0 seconds RetCode: 0 Status: OK PackageFile: SemDist_1.45.0.tar.gz PackageFileSize: 1.953 MiB