Package: ScreenR Version: 1.13.0 Command: /home/biocbuild/bbs-3.23-bioc/R/bin/R CMD check --install=check:ScreenR.install-out.txt --library=/home/biocbuild/bbs-3.23-bioc/R/site-library --timings ScreenR_1.13.0.tar.gz StartedAt: 2025-11-07 03:32:31 -0500 (Fri, 07 Nov 2025) EndedAt: 2025-11-07 03:35:30 -0500 (Fri, 07 Nov 2025) EllapsedTime: 179.1 seconds RetCode: 1 Status: ERROR CheckDir: ScreenR.Rcheck Warnings: NA