Package: Sconify Version: 1.29.1 Command: /home/biocbuild/bbs-3.22-bioc/R/bin/R CMD check --install=check:Sconify.install-out.txt --library=/home/biocbuild/bbs-3.22-bioc/R/site-library --timings Sconify_1.29.1.tar.gz StartedAt: 2025-10-22 04:34:07 -0400 (Wed, 22 Oct 2025) EndedAt: 2025-10-22 04:36:22 -0400 (Wed, 22 Oct 2025) EllapsedTime: 134.1 seconds RetCode: 0 Status: OK CheckDir: Sconify.Rcheck Warnings: 0