Package: Sconify Version: 1.29.0 Command: /Library/Frameworks/R.framework/Resources/bin/R CMD INSTALL Sconify StartedAt: 2025-09-30 15:15:39 -0400 (Tue, 30 Sep 2025) EndedAt: 2025-09-30 15:15:56 -0400 (Tue, 30 Sep 2025) EllapsedTime: 17.1 seconds RetCode: 0 Status: OK