Package: Sconify Version: 1.29.0 Command: /Library/Frameworks/R.framework/Resources/bin/R CMD build --keep-empty-dirs --no-resave-data Sconify StartedAt: 2025-09-29 18:41:34 -0400 (Mon, 29 Sep 2025) EndedAt: 2025-09-29 18:42:20 -0400 (Mon, 29 Sep 2025) EllapsedTime: 45.7 seconds RetCode: 0 Status: OK PackageFile: Sconify_1.29.0.tar.gz PackageFileSize: 4.937 MiB