Package: Sconify Version: 1.29.0 Command: rm -rf Sconify.buildbin-libdir && mkdir Sconify.buildbin-libdir && /Users/biocbuild/BBS/utils/build-universal.sh Sconify_1.29.0.tar.gz /Library/Frameworks/R.framework/Resources/bin/R Sconify.buildbin-libdir StartedAt: 2025-09-30 02:06:17 -0400 (Tue, 30 Sep 2025) EndedAt: 2025-09-30 02:06:36 -0400 (Tue, 30 Sep 2025) EllapsedTime: 19.5 seconds RetCode: 0 Status: OK PackageFile: Sconify_1.29.0.tgz PackageFileSize: 3.661 MiB