Package: Sconify Version: 1.29.1 Maintainer: Tyler J Burns MaintainerEmail: burns.tyler at gmail.com git_url: https://git.bioconductor.org/packages/Sconify git_branch: devel git_last_commit: 8983508 git_last_commit_date: 2025-10-05 13:59:52 -0400 (Sun, 05 Oct 2025)