Package: ScaledMatrix Version: 1.17.0 Command: /home/biocbuild/R/R/bin/R CMD INSTALL ScaledMatrix StartedAt: 2025-10-02 21:21:17 -0000 (Thu, 02 Oct 2025) EndedAt: 2025-10-02 21:21:43 -0000 (Thu, 02 Oct 2025) EllapsedTime: 26.1 seconds RetCode: 0 Status: OK