Package: ScaledMatrix Version: 1.17.0 Command: /home/biocbuild/R/R/bin/R CMD build --keep-empty-dirs --no-resave-data ScaledMatrix StartedAt: 2025-10-03 02:51:21 -0000 (Fri, 03 Oct 2025) EndedAt: 2025-10-03 02:53:46 -0000 (Fri, 03 Oct 2025) EllapsedTime: 145.1 seconds RetCode: 0 Status: OK PackageFile: ScaledMatrix_1.17.0.tar.gz PackageFileSize: 372.7 KiB