Package: ScaledMatrix Version: 1.19.0 Command: /home/biocbuild/bbs-3.23-bioc/R/bin/R CMD INSTALL ScaledMatrix StartedAt: 2025-11-07 15:51:18 -0500 (Fri, 07 Nov 2025) EndedAt: 2025-11-07 15:51:36 -0500 (Fri, 07 Nov 2025) EllapsedTime: 18.8 seconds RetCode: 0 Status: OK