Package: ScaledMatrix Version: 1.19.0 Command: /home/biocbuild/bbs-3.23-bioc/R/bin/R CMD build --keep-empty-dirs --no-resave-data ScaledMatrix StartedAt: 2025-11-07 19:44:05 -0500 (Fri, 07 Nov 2025) EndedAt: 2025-11-07 19:46:23 -0500 (Fri, 07 Nov 2025) EllapsedTime: 138.1 seconds RetCode: 0 Status: OK PackageFile: ScaledMatrix_1.19.0.tar.gz PackageFileSize: 306.4 KiB