Package: Scale4C Version: 1.31.1 Command: /home/biocbuild/R/R/bin/R CMD INSTALL Scale4C StartedAt: 2025-10-09 21:11:46 -0000 (Thu, 09 Oct 2025) EndedAt: 2025-10-09 21:12:18 -0000 (Thu, 09 Oct 2025) EllapsedTime: 31.9 seconds RetCode: 0 Status: OK