Package: Scale4C Version: 1.31.1 Command: /home/biocbuild/bbs-3.22-bioc/R/bin/R CMD check --install=check:Scale4C.install-out.txt --library=/home/biocbuild/bbs-3.22-bioc/R/site-library --timings Scale4C_1.31.1.tar.gz StartedAt: 2025-10-01 03:45:44 -0400 (Wed, 01 Oct 2025) EndedAt: 2025-10-01 03:49:38 -0400 (Wed, 01 Oct 2025) EllapsedTime: 234.2 seconds RetCode: 0 Status: OK CheckDir: Scale4C.Rcheck Warnings: 0