Package: Scale4C Version: 1.33.0 Command: /home/biocbuild/bbs-3.23-bioc/R/bin/R CMD check --install=check:Scale4C.install-out.txt --library=/home/biocbuild/bbs-3.23-bioc/R/site-library --timings Scale4C_1.33.0.tar.gz StartedAt: 2025-11-07 03:16:26 -0500 (Fri, 07 Nov 2025) EndedAt: 2025-11-07 03:20:16 -0500 (Fri, 07 Nov 2025) EllapsedTime: 230.4 seconds RetCode: 0 Status: OK CheckDir: Scale4C.Rcheck Warnings: 0