Package: SanityR Version: 1.1.0 Command: /home/biocbuild/bbs-3.23-bioc/R/bin/R CMD INSTALL SanityR StartedAt: 2025-11-20 15:19:58 -0500 (Thu, 20 Nov 2025) EndedAt: 2025-11-20 15:20:29 -0500 (Thu, 20 Nov 2025) EllapsedTime: 30.7 seconds RetCode: 0 Status: OK