Package: SanityR Version: 1.1.0 Command: /home/biocbuild/bbs-3.23-bioc/R/bin/R CMD build --keep-empty-dirs --no-resave-data SanityR StartedAt: 2025-11-20 19:46:32 -0500 (Thu, 20 Nov 2025) EndedAt: 2025-11-20 19:48:04 -0500 (Thu, 20 Nov 2025) EllapsedTime: 92.1 seconds RetCode: 0 Status: OK PackageFile: SanityR_1.1.0.tar.gz PackageFileSize: 671.3 KiB