Package: SanityR Version: 0.99.3 Command: /Library/Frameworks/R.framework/Resources/bin/R CMD INSTALL SanityR StartedAt: 2025-10-15 15:22:20 -0400 (Wed, 15 Oct 2025) EndedAt: 2025-10-15 15:23:00 -0400 (Wed, 15 Oct 2025) EllapsedTime: 39.8 seconds RetCode: 0 Status: OK