Package: SanityR Version: 0.99.3 Command: /Library/Frameworks/R.framework/Resources/bin/R CMD build --keep-empty-dirs --no-resave-data SanityR StartedAt: 2025-10-14 19:06:13 -0400 (Tue, 14 Oct 2025) EndedAt: 2025-10-14 19:08:21 -0400 (Tue, 14 Oct 2025) EllapsedTime: 127.4 seconds RetCode: 0 Status: OK PackageFile: SanityR_0.99.3.tar.gz PackageFileSize: 765 KiB