Package: SanityR Version: 0.99.3 Command: rm -rf SanityR.buildbin-libdir && mkdir SanityR.buildbin-libdir && /Users/biocbuild/BBS/utils/build-universal.sh SanityR_0.99.3.tar.gz /Library/Frameworks/R.framework/Resources/bin/R SanityR.buildbin-libdir StartedAt: 2025-10-15 03:05:57 -0400 (Wed, 15 Oct 2025) EndedAt: 2025-10-15 03:06:45 -0400 (Wed, 15 Oct 2025) EllapsedTime: 48.3 seconds RetCode: 0 Status: OK PackageFile: SanityR_0.99.3.tgz PackageFileSize: 815.2 KiB