Package: SanityR Version: 0.99.3 Command: rm -rf SanityR.buildbin-libdir && mkdir SanityR.buildbin-libdir && /Users/biocbuild/BBS/utils/build-universal.sh SanityR_0.99.3.tar.gz /Library/Frameworks/R.framework/Resources/bin/R SanityR.buildbin-libdir StartedAt: 2025-09-29 22:50:19 -0400 (Mon, 29 Sep 2025) EndedAt: 2025-09-29 22:50:32 -0400 (Mon, 29 Sep 2025) EllapsedTime: 13.3 seconds RetCode: 0 Status: OK PackageFile: SanityR_0.99.3.tgz PackageFileSize: 815.4 KiB