Package: SamSPECTRAL Version: 1.63.0 Command: /home/biocbuild/bbs-3.22-bioc/R/bin/R CMD check --install=check:SamSPECTRAL.install-out.txt --library=/home/biocbuild/bbs-3.22-bioc/R/site-library --timings SamSPECTRAL_1.63.0.tar.gz StartedAt: 2025-10-11 04:01:09 -0400 (Sat, 11 Oct 2025) EndedAt: 2025-10-11 04:02:41 -0400 (Sat, 11 Oct 2025) EllapsedTime: 92.2 seconds RetCode: 0 Status: WARNINGS CheckDir: SamSPECTRAL.Rcheck Warnings: 2