Package: SamSPECTRAL Version: 1.65.0 Command: /home/biocbuild/bbs-3.23-bioc/R/bin/R CMD INSTALL SamSPECTRAL StartedAt: 2025-10-31 15:10:26 -0400 (Fri, 31 Oct 2025) EndedAt: 2025-10-31 15:10:29 -0400 (Fri, 31 Oct 2025) EllapsedTime: 2.9 seconds RetCode: 0 Status: OK