Package: SamSPECTRAL Version: 1.65.0 Command: /home/biocbuild/bbs-3.23-bioc/R/bin/R CMD check --install=check:SamSPECTRAL.install-out.txt --library=/home/biocbuild/bbs-3.23-bioc/R/site-library --timings SamSPECTRAL_1.65.0.tar.gz StartedAt: 2025-11-22 03:29:43 -0500 (Sat, 22 Nov 2025) EndedAt: 2025-11-22 03:30:57 -0500 (Sat, 22 Nov 2025) EllapsedTime: 74.1 seconds RetCode: 0 Status: WARNINGS CheckDir: SamSPECTRAL.Rcheck Warnings: 2