Package: SamSPECTRAL Version: 1.65.0 Command: /home/biocbuild/bbs-3.23-bioc/R/bin/R CMD build --keep-empty-dirs --no-resave-data SamSPECTRAL StartedAt: 2025-10-31 19:55:31 -0400 (Fri, 31 Oct 2025) EndedAt: 2025-10-31 19:56:25 -0400 (Fri, 31 Oct 2025) EllapsedTime: 54.1 seconds RetCode: 0 Status: OK PackageFile: SamSPECTRAL_1.65.0.tar.gz PackageFileSize: 936.5 KiB