Package: SWATH2stats Version: 1.39.1 Command: /home/biocbuild/bbs-3.22-bioc/R/bin/R CMD check --install=check:SWATH2stats.install-out.txt --library=/home/biocbuild/bbs-3.22-bioc/R/site-library --timings SWATH2stats_1.39.1.tar.gz StartedAt: 2025-10-11 05:07:28 -0400 (Sat, 11 Oct 2025) EndedAt: 2025-10-11 05:10:23 -0400 (Sat, 11 Oct 2025) EllapsedTime: 175.1 seconds RetCode: 0 Status: OK CheckDir: SWATH2stats.Rcheck Warnings: 0