Package: SWATH2stats Version: 1.41.0 Command: /home/biocbuild/bbs-3.23-bioc/R/bin/R CMD INSTALL SWATH2stats StartedAt: 2025-10-31 15:36:00 -0400 (Fri, 31 Oct 2025) EndedAt: 2025-10-31 15:36:17 -0400 (Fri, 31 Oct 2025) EllapsedTime: 17.5 seconds RetCode: 0 Status: OK