Package: SWATH2stats Version: 1.41.0 Command: /home/biocbuild/bbs-3.23-bioc/R/bin/R CMD build --keep-empty-dirs --no-resave-data SWATH2stats StartedAt: 2025-10-31 20:31:54 -0400 (Fri, 31 Oct 2025) EndedAt: 2025-10-31 20:32:40 -0400 (Fri, 31 Oct 2025) EllapsedTime: 46.0 seconds RetCode: 0 Status: OK PackageFile: SWATH2stats_1.41.0.tar.gz PackageFileSize: 3.033 MiB