Package: SVP Version: 1.3.1 Command: /home/biocbuild/bbs-3.23-bioc/R/bin/R CMD INSTALL SVP StartedAt: 2025-11-16 15:20:59 -0500 (Sun, 16 Nov 2025) EndedAt: 2025-11-16 15:23:44 -0500 (Sun, 16 Nov 2025) EllapsedTime: 165.6 seconds RetCode: 0 Status: OK