Package: SVP Version: 1.3.1 Command: /home/biocbuild/bbs-3.23-bioc/R/bin/R CMD build --keep-empty-dirs --no-resave-data SVP StartedAt: 2025-11-17 20:31:44 -0500 (Mon, 17 Nov 2025) EndedAt: 2025-11-17 20:36:09 -0500 (Mon, 17 Nov 2025) EllapsedTime: 265.5 seconds RetCode: 0 Status: OK PackageFile: SVP_1.3.1.tar.gz PackageFileSize: 4.231 MiB