Package: SVP Version: 1.1.1 Command: /Library/Frameworks/R.framework/Resources/bin/R CMD build --keep-empty-dirs --no-resave-data SVP StartedAt: 2025-10-16 20:07:34 -0400 (Thu, 16 Oct 2025) EndedAt: 2025-10-16 20:12:18 -0400 (Thu, 16 Oct 2025) EllapsedTime: 283.4 seconds RetCode: 0 Status: OK PackageFile: SVP_1.1.1.tar.gz PackageFileSize: 4.603 MiB