Package: SVP Version: 1.1.1 Command: rm -rf SVP.buildbin-libdir && mkdir SVP.buildbin-libdir && /Users/biocbuild/BBS/utils/build-universal.sh SVP_1.1.1.tar.gz /Library/Frameworks/R.framework/Resources/bin/R SVP.buildbin-libdir StartedAt: 2025-10-17 04:18:30 -0400 (Fri, 17 Oct 2025) EndedAt: 2025-10-17 04:21:39 -0400 (Fri, 17 Oct 2025) EllapsedTime: 189.0 seconds RetCode: 0 Status: OK PackageFile: SVP_1.1.1.tgz PackageFileSize: 5.297 MiB