Package: SVP Version: 1.1.0 Command: /Library/Frameworks/R.framework/Resources/bin/R CMD build --keep-empty-dirs --no-resave-data SVP StartedAt: 2025-10-06 17:53:59 -0400 (Mon, 06 Oct 2025) EndedAt: 2025-10-06 17:55:38 -0400 (Mon, 06 Oct 2025) EllapsedTime: 99.1 seconds RetCode: 0 Status: OK PackageFile: SVP_1.1.0.tar.gz PackageFileSize: 4.818 MiB