Package: SVP Version: 1.1.0 Command: rm -rf SVP.buildbin-libdir && mkdir SVP.buildbin-libdir && /Users/biocbuild/BBS/utils/build-universal.sh SVP_1.1.0.tar.gz /Library/Frameworks/R.framework/Resources/bin/R SVP.buildbin-libdir StartedAt: 2025-10-06 23:02:49 -0400 (Mon, 06 Oct 2025) EndedAt: 2025-10-06 23:03:37 -0400 (Mon, 06 Oct 2025) EllapsedTime: 48.1 seconds RetCode: 0 Status: OK PackageFile: SVP_1.1.0.tgz PackageFileSize: 5.45 MiB