Package: SVMDO Version: 1.9.0 Command: /home/biocbuild/bbs-3.22-bioc/R/bin/R CMD INSTALL SVMDO StartedAt: 2025-09-30 15:44:18 -0400 (Tue, 30 Sep 2025) EndedAt: 2025-09-30 15:44:53 -0400 (Tue, 30 Sep 2025) EllapsedTime: 34.9 seconds RetCode: 0 Status: OK