Package: SUITOR Version: 1.13.0 Command: /home/biocbuild/bbs-3.23-bioc/R/bin/R CMD INSTALL SUITOR StartedAt: 2025-11-07 15:08:04 -0500 (Fri, 07 Nov 2025) EndedAt: 2025-11-07 15:08:18 -0500 (Fri, 07 Nov 2025) EllapsedTime: 13.8 seconds RetCode: 0 Status: OK