Package: SUITOR Version: 1.13.0 Command: /home/biocbuild/bbs-3.23-bioc/R/bin/R CMD build --keep-empty-dirs --no-resave-data SUITOR StartedAt: 2025-11-07 20:19:36 -0500 (Fri, 07 Nov 2025) EndedAt: 2025-11-07 20:20:36 -0500 (Fri, 07 Nov 2025) EllapsedTime: 60.1 seconds RetCode: 0 Status: OK PackageFile: SUITOR_1.13.0.tar.gz PackageFileSize: 264.9 KiB