Package: SUITOR Version: 1.11.0 Command: /Library/Frameworks/R.framework/Resources/bin/R CMD INSTALL SUITOR StartedAt: 2025-10-27 15:08:04 -0400 (Mon, 27 Oct 2025) EndedAt: 2025-10-27 15:08:51 -0400 (Mon, 27 Oct 2025) EllapsedTime: 47.1 seconds RetCode: 0 Status: OK