Package: SUITOR Version: 1.11.0 Command: /Library/Frameworks/R.framework/Resources/bin/R CMD build --keep-empty-dirs --no-resave-data SUITOR StartedAt: 2025-10-27 18:53:42 -0400 (Mon, 27 Oct 2025) EndedAt: 2025-10-27 18:54:53 -0400 (Mon, 27 Oct 2025) EllapsedTime: 70.9 seconds RetCode: 0 Status: OK PackageFile: SUITOR_1.11.0.tar.gz PackageFileSize: 264.1 KiB