Package: SUITOR Version: 1.11.0 Command: /Library/Frameworks/R.framework/Resources/bin/R CMD INSTALL SUITOR StartedAt: 2025-10-10 15:06:40 -0400 (Fri, 10 Oct 2025) EndedAt: 2025-10-10 15:06:47 -0400 (Fri, 10 Oct 2025) EllapsedTime: 7.0 seconds RetCode: 1 Status: ERROR