Package: SUITOR Version: 1.11.0 Command: /Library/Frameworks/R.framework/Resources/bin/R CMD build --keep-empty-dirs --no-resave-data SUITOR StartedAt: 2025-10-10 17:52:15 -0400 (Fri, 10 Oct 2025) EndedAt: 2025-10-10 17:52:16 -0400 (Fri, 10 Oct 2025) EllapsedTime: 1.0 seconds RetCode: 1 Status: ERROR PackageFile: None PackageFileSize: NA