############################################################################## ############################################################################## ### ### Running command: ### ### F:\biocbuild\bbs-3.22-bioc\R\bin\R.exe CMD INSTALL STdeconvolve ### ############################################################################## ############################################################################## * installing to library 'F:/biocbuild/bbs-3.22-bioc/R/library' ERROR: dependency 'liger' is not available for package 'STdeconvolve' Perhaps try a variation of: install.packages('liger') * removing 'F:/biocbuild/bbs-3.22-bioc/R/library/STdeconvolve'