Package: STRINGdb Version: 2.21.0 Command: /home/biocbuild/bbs-3.22-bioc/R/bin/R CMD check --install=check:STRINGdb.install-out.txt --library=/home/biocbuild/bbs-3.22-bioc/R/site-library --timings STRINGdb_2.21.0.tar.gz StartedAt: 2025-10-16 05:32:21 -0400 (Thu, 16 Oct 2025) EndedAt: 2025-10-16 05:42:12 -0400 (Thu, 16 Oct 2025) EllapsedTime: 590.7 seconds RetCode: 0 Status: OK CheckDir: STRINGdb.Rcheck Warnings: 0